BEGIN:VCALENDAR
VERSION:2.0
PRODID:-//San Jose Betsuin - ECPv6.15.20//NONSGML v1.0//EN
CALSCALE:GREGORIAN
METHOD:PUBLISH
X-ORIGINAL-URL:https://www.sjbetsuin.org
X-WR-CALDESC:Events for San Jose Betsuin
REFRESH-INTERVAL;VALUE=DURATION:PT1H
X-Robots-Tag:noindex
X-PUBLISHED-TTL:PT1H
BEGIN:VTIMEZONE
TZID:America/Los_Angeles
BEGIN:DAYLIGHT
TZOFFSETFROM:-0800
TZOFFSETTO:-0700
TZNAME:PDT
DTSTART:20230312T100000
END:DAYLIGHT
BEGIN:STANDARD
TZOFFSETFROM:-0700
TZOFFSETTO:-0800
TZNAME:PST
DTSTART:20231105T090000
END:STANDARD
BEGIN:DAYLIGHT
TZOFFSETFROM:-0800
TZOFFSETTO:-0700
TZNAME:PDT
DTSTART:20240310T100000
END:DAYLIGHT
BEGIN:STANDARD
TZOFFSETFROM:-0700
TZOFFSETTO:-0800
TZNAME:PST
DTSTART:20241103T090000
END:STANDARD
BEGIN:DAYLIGHT
TZOFFSETFROM:-0800
TZOFFSETTO:-0700
TZNAME:PDT
DTSTART:20250309T100000
END:DAYLIGHT
BEGIN:STANDARD
TZOFFSETFROM:-0700
TZOFFSETTO:-0800
TZNAME:PST
DTSTART:20251102T090000
END:STANDARD
END:VTIMEZONE
BEGIN:VEVENT
DTSTART;TZID=America/Los_Angeles:20240602T100000
DTEND;TZID=America/Los_Angeles:20240602T110000
DTSTAMP:20260423T083846
CREATED:20240223T223738Z
LAST-MODIFIED:20240223T223752Z
UID:6062-1717322400-1717326000@www.sjbetsuin.org
SUMMARY:Baccalaureate Service
DESCRIPTION:Baccalaurate Service \nHonoring all the 2024 High School and College graduates and awarding of the Betsuin scholarships.
URL:https://www.sjbetsuin.org/event/baccalaureate-service-4/
LOCATION:San Jose Buddhist Church Betsuin\, 640 N. 5th St\, San Jose\, CA\, 95112\, United States
ATTACH;FMTTYPE=image/jpeg:https://www.sjbetsuin.org/wp-content/uploads/2024/02/baccalaureate-service.jpeg
END:VEVENT
END:VCALENDAR