BEGIN:VCALENDAR
VERSION:2.0
PRODID:-//San Jose Betsuin - ECPv6.15.20//NONSGML v1.0//EN
CALSCALE:GREGORIAN
METHOD:PUBLISH
X-WR-CALNAME:San Jose Betsuin
X-ORIGINAL-URL:https://www.sjbetsuin.org
X-WR-CALDESC:Events for San Jose Betsuin
REFRESH-INTERVAL;VALUE=DURATION:PT1H
X-Robots-Tag:noindex
X-PUBLISHED-TTL:PT1H
BEGIN:VTIMEZONE
TZID:America/Los_Angeles
BEGIN:DAYLIGHT
TZOFFSETFROM:-0800
TZOFFSETTO:-0700
TZNAME:PDT
DTSTART:20250309T100000
END:DAYLIGHT
BEGIN:STANDARD
TZOFFSETFROM:-0700
TZOFFSETTO:-0800
TZNAME:PST
DTSTART:20251102T090000
END:STANDARD
BEGIN:DAYLIGHT
TZOFFSETFROM:-0800
TZOFFSETTO:-0700
TZNAME:PDT
DTSTART:20260308T100000
END:DAYLIGHT
BEGIN:STANDARD
TZOFFSETFROM:-0700
TZOFFSETTO:-0800
TZNAME:PST
DTSTART:20261101T090000
END:STANDARD
BEGIN:DAYLIGHT
TZOFFSETFROM:-0800
TZOFFSETTO:-0700
TZNAME:PDT
DTSTART:20270314T100000
END:DAYLIGHT
BEGIN:STANDARD
TZOFFSETFROM:-0700
TZOFFSETTO:-0800
TZNAME:PST
DTSTART:20271107T090000
END:STANDARD
END:VTIMEZONE
BEGIN:VEVENT
DTSTART;VALUE=DATE:20260419
DTEND;VALUE=DATE:20260420
DTSTAMP:20260419T195759
CREATED:20260320T235240Z
LAST-MODIFIED:20260320T235433Z
UID:6624-1776556800-1776643199@www.sjbetsuin.org
SUMMARY:No Services/Offices Closed
DESCRIPTION:Due to the Ministers and the Dharma School Teachers being at the Federation of Dharma School Teachers’ Leagues in Fresno\, there will be no services at the Betsuin on April 19\, 2026. \nThe Betsuin Office will also be closed.
URL:https://www.sjbetsuin.org/event/no-services/
LOCATION:CA
ATTACH;FMTTYPE=image/jpeg:https://www.sjbetsuin.org/wp-content/uploads/2026/02/sorry-we-are-closed-design-template-f79d5620e5963f693091909eca2890a9_screen-1073608059.jpeg
END:VEVENT
END:VCALENDAR