BEGIN:VCALENDAR
VERSION:2.0
PRODID:-//San Jose Betsuin - ECPv6.15.20//NONSGML v1.0//EN
CALSCALE:GREGORIAN
METHOD:PUBLISH
X-WR-CALNAME:San Jose Betsuin
X-ORIGINAL-URL:https://www.sjbetsuin.org
X-WR-CALDESC:Events for San Jose Betsuin
REFRESH-INTERVAL;VALUE=DURATION:PT1H
X-Robots-Tag:noindex
X-PUBLISHED-TTL:PT1H
BEGIN:VTIMEZONE
TZID:America/Los_Angeles
BEGIN:DAYLIGHT
TZOFFSETFROM:-0800
TZOFFSETTO:-0700
TZNAME:PDT
DTSTART:20230312T100000
END:DAYLIGHT
BEGIN:STANDARD
TZOFFSETFROM:-0700
TZOFFSETTO:-0800
TZNAME:PST
DTSTART:20231105T090000
END:STANDARD
BEGIN:DAYLIGHT
TZOFFSETFROM:-0800
TZOFFSETTO:-0700
TZNAME:PDT
DTSTART:20240310T100000
END:DAYLIGHT
BEGIN:STANDARD
TZOFFSETFROM:-0700
TZOFFSETTO:-0800
TZNAME:PST
DTSTART:20241103T090000
END:STANDARD
BEGIN:DAYLIGHT
TZOFFSETFROM:-0800
TZOFFSETTO:-0700
TZNAME:PDT
DTSTART:20250309T100000
END:DAYLIGHT
BEGIN:STANDARD
TZOFFSETFROM:-0700
TZOFFSETTO:-0800
TZNAME:PST
DTSTART:20251102T090000
END:STANDARD
END:VTIMEZONE
BEGIN:VEVENT
DTSTART;TZID=America/Los_Angeles:20240602T100000
DTEND;TZID=America/Los_Angeles:20240602T110000
DTSTAMP:20260423T074112
CREATED:20240223T223738Z
LAST-MODIFIED:20240223T223752Z
UID:6062-1717322400-1717326000@www.sjbetsuin.org
SUMMARY:Baccalaureate Service
DESCRIPTION:Baccalaurate Service \nHonoring all the 2024 High School and College graduates and awarding of the Betsuin scholarships.
URL:https://www.sjbetsuin.org/event/baccalaureate-service-4/
LOCATION:San Jose Buddhist Church Betsuin\, 640 N. 5th St\, San Jose\, CA\, 95112\, United States
ATTACH;FMTTYPE=image/jpeg:https://www.sjbetsuin.org/wp-content/uploads/2024/02/baccalaureate-service.jpeg
END:VEVENT
BEGIN:VEVENT
DTSTART;TZID=America/Los_Angeles:20240605T190000
DTEND;TZID=America/Los_Angeles:20240605T200000
DTSTAMP:20260423T074112
CREATED:20240503T045757Z
LAST-MODIFIED:20240503T045831Z
UID:6090-1717614000-1717617600@www.sjbetsuin.org
SUMMARY:Buddhism: Clearly & Simply
DESCRIPTION:Applying Jodo Shinshu Buddhism to Our Lives \nIntroductory class to Clearly & Simply explain how to apply Jodo Shinshu Buddhism in our Daily Lives. \nThis class will be on the topic “Winning and Spending our Spiritual Lotto Prize”. \nNo prior experience or knowledge required. \nTaught by Rev. Dr. Kenji Akahoshi\, formerly of San Diego Buddhist Temple. \nFor the more information\, please contact the Betsuin Office at sjbc@sjbetsuin.org.
URL:https://www.sjbetsuin.org/event/buddhism-clearly-simply-5/
LOCATION:San Jose Buddhist Church – Office – Board Room\, 640 N. 5th St\, San Jose\, 95131\, United States
ATTACH;FMTTYPE=image/png:https://www.sjbetsuin.org/wp-content/uploads/2023/10/Buddhism_-Clearly-Simply-header.png
END:VEVENT
BEGIN:VEVENT
DTSTART;TZID=America/Los_Angeles:20240624T193000
DTEND;TZID=America/Los_Angeles:20240624T204500
DTSTAMP:20260423T074112
CREATED:20240618T031720Z
LAST-MODIFIED:20240618T032135Z
UID:6108-1719257400-1719261900@www.sjbetsuin.org
SUMMARY:Obon Odori Dance Practice
DESCRIPTION:
URL:https://www.sjbetsuin.org/event/obon-odori-dance-practice/
LOCATION:San Jose Buddhist Church Annex\, 632 N. 5th St\, San Jose\, CA\, 95112\, United States
ATTACH;FMTTYPE=image/jpeg:https://www.sjbetsuin.org/wp-content/uploads/2024/06/Odori-Practice-v2.jpg
END:VEVENT
BEGIN:VEVENT
DTSTART;TZID=America/Los_Angeles:20240626T193000
DTEND;TZID=America/Los_Angeles:20240626T204500
DTSTAMP:20260423T074112
CREATED:20240618T032319Z
LAST-MODIFIED:20240618T032320Z
UID:6112-1719430200-1719434700@www.sjbetsuin.org
SUMMARY:Obon Odori Dance Practice
DESCRIPTION:
URL:https://www.sjbetsuin.org/event/obon-odori-dance-practice-3/
LOCATION:San Jose Buddhist Church Annex\, 632 N. 5th St\, San Jose\, CA\, 95112\, United States
ATTACH;FMTTYPE=image/jpeg:https://www.sjbetsuin.org/wp-content/uploads/2024/06/Odori-Practice-v2.jpg
END:VEVENT
BEGIN:VEVENT
DTSTART;TZID=America/Los_Angeles:20240627T193000
DTEND;TZID=America/Los_Angeles:20240627T204500
DTSTAMP:20260423T074112
CREATED:20240618T032225Z
LAST-MODIFIED:20240618T032225Z
UID:6111-1719516600-1719521100@www.sjbetsuin.org
SUMMARY:Obon Odori Dance Practice
DESCRIPTION:
URL:https://www.sjbetsuin.org/event/obon-odori-dance-practice-2/
LOCATION:San Jose Buddhist Church Annex\, 632 N. 5th St\, San Jose\, CA\, 95112\, United States
ATTACH;FMTTYPE=image/jpeg:https://www.sjbetsuin.org/wp-content/uploads/2024/06/Odori-Practice-v2.jpg
END:VEVENT
END:VCALENDAR