BEGIN:VCALENDAR
VERSION:2.0
PRODID:-//San Jose Betsuin - ECPv6.15.20//NONSGML v1.0//EN
CALSCALE:GREGORIAN
METHOD:PUBLISH
X-ORIGINAL-URL:https://www.sjbetsuin.org
X-WR-CALDESC:Events for San Jose Betsuin
REFRESH-INTERVAL;VALUE=DURATION:PT1H
X-Robots-Tag:noindex
X-PUBLISHED-TTL:PT1H
BEGIN:VTIMEZONE
TZID:America/Los_Angeles
BEGIN:DAYLIGHT
TZOFFSETFROM:-0800
TZOFFSETTO:-0700
TZNAME:PDT
DTSTART:20250309T100000
END:DAYLIGHT
BEGIN:STANDARD
TZOFFSETFROM:-0700
TZOFFSETTO:-0800
TZNAME:PST
DTSTART:20251102T090000
END:STANDARD
BEGIN:DAYLIGHT
TZOFFSETFROM:-0800
TZOFFSETTO:-0700
TZNAME:PDT
DTSTART:20260308T100000
END:DAYLIGHT
BEGIN:STANDARD
TZOFFSETFROM:-0700
TZOFFSETTO:-0800
TZNAME:PST
DTSTART:20261101T090000
END:STANDARD
BEGIN:DAYLIGHT
TZOFFSETFROM:-0800
TZOFFSETTO:-0700
TZNAME:PDT
DTSTART:20270314T100000
END:DAYLIGHT
BEGIN:STANDARD
TZOFFSETFROM:-0700
TZOFFSETTO:-0800
TZNAME:PST
DTSTART:20271107T090000
END:STANDARD
END:VTIMEZONE
BEGIN:VEVENT
DTSTART;VALUE=DATE:20260425
DTEND;VALUE=DATE:20260426
DTSTAMP:20260425T085234
CREATED:20260221T014552Z
LAST-MODIFIED:20260320T234752Z
UID:6589-1777075200-1777161599@www.sjbetsuin.org
SUMMARY:Office Closed (Day before Nikkei Matsuri)
DESCRIPTION:Due to preparation and for the day of the Nikkei Matsuri on Sunday\, April 26\, 2026 the Betsuin Office will be closed on Saturday\, April 25\, 2026 and Sunday\, April 26\, 2026.
URL:https://www.sjbetsuin.org/event/office-closed-day-before-nikkei-matsuri/
LOCATION:San Jose Buddhist Church – Office – Board Room\, 640 N. 5th St\, San Jose\, 95131\, United States
ATTACH;FMTTYPE=image/jpeg:https://www.sjbetsuin.org/wp-content/uploads/2026/02/sorry-we-are-closed-design-template-f79d5620e5963f693091909eca2890a9_screen-1073608059.jpeg
END:VEVENT
END:VCALENDAR